BEGIN:VCALENDAR
VERSION:2.0
PRODID:-//ExpressionEngine Easy iCalendar plugin//NONSGML v2.0.1//EN
X-WR-TIMEZONE:America/New_York
X-WR-CALNAME:Upcoming Auctions
BEGIN:VEVENT
UID:157312
DTSTAMP:20260220T120000
DTSTART:20260220T120000
DTEND:20260326T180000
SUMMARY:March 26th (Online Only) - Spring Equipment Auction
LOCATION:2003 Stafford St Ext.\, Monroe\, NC 28110\, US
DESCRIPTION:ONLINE ONLY - Support Equipment for Home\, Construction\, & Fa
 rm Equipment
URL:https://www.soldwithatm.com/auctions/detail/bw157312
SEQUENCE:1
END:VEVENT
END:VCALENDAR